BEGIN:VCALENDAR
VERSION:2.0
PRODID:-//Grafelman Farms Rescue - ECPv6.15.20//NONSGML v1.0//EN
CALSCALE:GREGORIAN
METHOD:PUBLISH
X-ORIGINAL-URL:https://gfrpets.org
X-WR-CALDESC:Events for Grafelman Farms Rescue
REFRESH-INTERVAL;VALUE=DURATION:PT1H
X-Robots-Tag:noindex
X-PUBLISHED-TTL:PT1H
BEGIN:VTIMEZONE
TZID:America/Chicago
BEGIN:DAYLIGHT
TZOFFSETFROM:-0600
TZOFFSETTO:-0500
TZNAME:CDT
DTSTART:20240310T080000
END:DAYLIGHT
BEGIN:STANDARD
TZOFFSETFROM:-0500
TZOFFSETTO:-0600
TZNAME:CST
DTSTART:20241103T070000
END:STANDARD
BEGIN:DAYLIGHT
TZOFFSETFROM:-0600
TZOFFSETTO:-0500
TZNAME:CDT
DTSTART:20250309T080000
END:DAYLIGHT
BEGIN:STANDARD
TZOFFSETFROM:-0500
TZOFFSETTO:-0600
TZNAME:CST
DTSTART:20251102T070000
END:STANDARD
BEGIN:DAYLIGHT
TZOFFSETFROM:-0600
TZOFFSETTO:-0500
TZNAME:CDT
DTSTART:20260308T080000
END:DAYLIGHT
BEGIN:STANDARD
TZOFFSETFROM:-0500
TZOFFSETTO:-0600
TZNAME:CST
DTSTART:20261101T070000
END:STANDARD
END:VTIMEZONE
BEGIN:VEVENT
DTSTART;TZID=America/Chicago:20251101T110000
DTEND;TZID=America/Chicago:20251101T140000
DTSTAMP:20260424T205036
CREATED:20250611T225406Z
LAST-MODIFIED:20250611T225406Z
UID:1267-1761994800-1762005600@gfrpets.org
SUMMARY:Adoption Event at Pekin Petco
DESCRIPTION:Come out to see some of our available dogs (and possibly cats) at Pekin Petco! A list of animals that will be at the event will be listed on our Facebook page by the day prior. Available animals are subject to foster availability. You can apply for our available animals at apply to adopt a… Continue reading Adoption Event at Pekin Petco
URL:https://gfrpets.org/event/adoption-event-at-pekin-petco-4/
LOCATION:Pekin Petco\, 3434 Court S\, Pekin\, IL\, 61554\, United States
CATEGORIES:Adoption Events
END:VEVENT
BEGIN:VEVENT
DTSTART;TZID=America/Chicago:20251108T110000
DTEND;TZID=America/Chicago:20251108T140000
DTSTAMP:20260424T205036
CREATED:20250611T224736Z
LAST-MODIFIED:20250611T224736Z
UID:1261-1762599600-1762610400@gfrpets.org
SUMMARY:Adoption Event at My Dog’s Bakery
DESCRIPTION:Come out to see some of our available dogs (and possibly cats) at Pekin Petco! A list of animals that will be at the event will be listed on our Facebook page by the day prior. Available animals are subject to foster availability. You can apply for our available animals at apply to adopt a… Continue reading Adoption Event at Pekin Petco
URL:https://gfrpets.org/event/adoption-event-at-my-dogs-bakery-5/
LOCATION:IL
CATEGORIES:Adoption Events
END:VEVENT
BEGIN:VEVENT
DTSTART;TZID=America/Chicago:20251108T170000
DTEND;TZID=America/Chicago:20251108T200000
DTSTAMP:20260424T205036
CREATED:20251011T141512Z
LAST-MODIFIED:20251011T141512Z
UID:3463-1762621200-1762632000@gfrpets.org
SUMMARY:9 Pin No Tap Bowling Tournament at Sunset Lanes
DESCRIPTION:Come out to see some of our available dogs (and possibly cats) at Pekin Petco! A list of animals that will be at the event will be listed on our Facebook page by the day prior. Available animals are subject to foster availability. You can apply for our available animals at apply to adopt a… Continue reading Adoption Event at Pekin Petco
URL:https://gfrpets.org/event/9-pin-no-tap-bowling-tournament-at-sunset-lanes/
LOCATION:Sunset Lanes\, 3000 Court St.\, Pekin\, IL\, 61554\, United States
END:VEVENT
BEGIN:VEVENT
DTSTART;TZID=America/Chicago:20251123T170000
DTEND;TZID=America/Chicago:20251123T200000
DTSTAMP:20260424T205036
CREATED:20250917T011728Z
LAST-MODIFIED:20251017T005348Z
UID:3068-1763917200-1763928000@gfrpets.org
SUMMARY:Mystery Dinner to Benefit Grafelman Farms
DESCRIPTION:Come out to see some of our available dogs (and possibly cats) at Pekin Petco! A list of animals that will be at the event will be listed on our Facebook page by the day prior. Available animals are subject to foster availability. You can apply for our available animals at apply to adopt a… Continue reading Adoption Event at Pekin Petco
URL:https://gfrpets.org/event/mysterydinner/
LOCATION:Barrack’s Cater Inn\, 1224 W Pioneer Parkway\, Peoria\, IL\, 61615\, United States
CATEGORIES:Fundraising Nights
ATTACH;FMTTYPE=image/png:https://gfrpets.org/wp-content/uploads/2025/09/Beige-And-Red-Illustration-Bold-Retro-Horror-Murder-Mystery-Invitation.png
END:VEVENT
END:VCALENDAR