BEGIN:VCALENDAR
VERSION:2.0
PRODID:-//Grafelman Farms Rescue - ECPv6.15.20//NONSGML v1.0//EN
CALSCALE:GREGORIAN
METHOD:PUBLISH
X-WR-CALNAME:Grafelman Farms Rescue
X-ORIGINAL-URL:https://gfrpets.org
X-WR-CALDESC:Events for Grafelman Farms Rescue
REFRESH-INTERVAL;VALUE=DURATION:PT1H
X-Robots-Tag:noindex
X-PUBLISHED-TTL:PT1H
BEGIN:VTIMEZONE
TZID:America/Chicago
BEGIN:DAYLIGHT
TZOFFSETFROM:-0600
TZOFFSETTO:-0500
TZNAME:CDT
DTSTART:20240310T080000
END:DAYLIGHT
BEGIN:STANDARD
TZOFFSETFROM:-0500
TZOFFSETTO:-0600
TZNAME:CST
DTSTART:20241103T070000
END:STANDARD
BEGIN:DAYLIGHT
TZOFFSETFROM:-0600
TZOFFSETTO:-0500
TZNAME:CDT
DTSTART:20250309T080000
END:DAYLIGHT
BEGIN:STANDARD
TZOFFSETFROM:-0500
TZOFFSETTO:-0600
TZNAME:CST
DTSTART:20251102T070000
END:STANDARD
BEGIN:DAYLIGHT
TZOFFSETFROM:-0600
TZOFFSETTO:-0500
TZNAME:CDT
DTSTART:20260308T080000
END:DAYLIGHT
BEGIN:STANDARD
TZOFFSETFROM:-0500
TZOFFSETTO:-0600
TZNAME:CST
DTSTART:20261101T070000
END:STANDARD
END:VTIMEZONE
BEGIN:VEVENT
DTSTART;TZID=America/Chicago:20251004T090000
DTEND;TZID=America/Chicago:20251004T170000
DTSTAMP:20260424T221326
CREATED:20250611T233122Z
LAST-MODIFIED:20250611T233122Z
UID:1284-1759568400-1759597200@gfrpets.org
SUMMARY:Spoon River Drive Yard Sale
DESCRIPTION:Come out to see some of our available dogs (and possibly cats) at Pekin Petco! A list of animals that will be at the event will be listed on our Facebook page by the day prior. Available animals are subject to foster availability. You can apply for our available animals at apply to adopt a… Continue reading Adoption Event at Pekin Petco
URL:https://gfrpets.org/event/spoon-river-drive-yard-sale/
LOCATION:Malinda’s Place\, 5317 West Farmington Road\, Peoria\, IL\, 61604\, United States
CATEGORIES:Fundraising Nights
END:VEVENT
BEGIN:VEVENT
DTSTART;TZID=America/Chicago:20251005T090000
DTEND;TZID=America/Chicago:20251005T170000
DTSTAMP:20260424T221326
CREATED:20250611T233205Z
LAST-MODIFIED:20250611T233205Z
UID:1287-1759654800-1759683600@gfrpets.org
SUMMARY:Spoon River Drive Yard Sale
DESCRIPTION:Come out to see some of our available dogs (and possibly cats) at Pekin Petco! A list of animals that will be at the event will be listed on our Facebook page by the day prior. Available animals are subject to foster availability. You can apply for our available animals at apply to adopt a… Continue reading Adoption Event at Pekin Petco
URL:https://gfrpets.org/event/spoon-river-drive-yard-sale-2/
LOCATION:Malinda’s Place\, 5317 West Farmington Road\, Peoria\, IL\, 61604\, United States
CATEGORIES:Fundraising Nights
END:VEVENT
BEGIN:VEVENT
DTSTART;TZID=America/Chicago:20251011T110000
DTEND;TZID=America/Chicago:20251011T140000
DTSTAMP:20260424T221326
CREATED:20250611T224649Z
LAST-MODIFIED:20250611T224649Z
UID:1259-1760180400-1760191200@gfrpets.org
SUMMARY:Adoption Event at My Dog’s Bakery
DESCRIPTION:Come out to see some of our available dogs (and possibly cats) at Pekin Petco! A list of animals that will be at the event will be listed on our Facebook page by the day prior. Available animals are subject to foster availability. You can apply for our available animals at apply to adopt a… Continue reading Adoption Event at Pekin Petco
URL:https://gfrpets.org/event/adoption-event-at-my-dogs-bakery-4/
LOCATION:My Dog’s Bakery\, 4100 W Willow Knolls Dr\, Peoria\, IL\, 61614\, United States
CATEGORIES:Adoption Events
ORGANIZER;CN="Eden":MAILTO:eden@gfrpets.org
END:VEVENT
BEGIN:VEVENT
DTSTART;TZID=America/Chicago:20251025T110000
DTEND;TZID=America/Chicago:20251025T140000
DTSTAMP:20260424T221326
CREATED:20251011T141014Z
LAST-MODIFIED:20251011T141014Z
UID:3461-1761390000-1761400800@gfrpets.org
SUMMARY:Adoption Event at East Peoria Petsmart
DESCRIPTION:Come out to see some of our available dogs (and possibly cats) at Pekin Petco! A list of animals that will be at the event will be listed on our Facebook page by the day prior. Available animals are subject to foster availability. You can apply for our available animals at apply to adopt a… Continue reading Adoption Event at Pekin Petco
URL:https://gfrpets.org/event/adoption-event-at-east-peoria-petsmart-2/
LOCATION:East Peoria Petsmart\, 208 River Road\, East Peoria\, 61611\, United States
END:VEVENT
END:VCALENDAR