BEGIN:VCALENDAR
VERSION:2.0
PRODID:-//Grafelman Farms Rescue - ECPv6.15.20//NONSGML v1.0//EN
CALSCALE:GREGORIAN
METHOD:PUBLISH
X-ORIGINAL-URL:https://gfrpets.org
X-WR-CALDESC:Events for Grafelman Farms Rescue
REFRESH-INTERVAL;VALUE=DURATION:PT1H
X-Robots-Tag:noindex
X-PUBLISHED-TTL:PT1H
BEGIN:VTIMEZONE
TZID:America/Chicago
BEGIN:DAYLIGHT
TZOFFSETFROM:-0600
TZOFFSETTO:-0500
TZNAME:CDT
DTSTART:20240310T080000
END:DAYLIGHT
BEGIN:STANDARD
TZOFFSETFROM:-0500
TZOFFSETTO:-0600
TZNAME:CST
DTSTART:20241103T070000
END:STANDARD
BEGIN:DAYLIGHT
TZOFFSETFROM:-0600
TZOFFSETTO:-0500
TZNAME:CDT
DTSTART:20250309T080000
END:DAYLIGHT
BEGIN:STANDARD
TZOFFSETFROM:-0500
TZOFFSETTO:-0600
TZNAME:CST
DTSTART:20251102T070000
END:STANDARD
BEGIN:DAYLIGHT
TZOFFSETFROM:-0600
TZOFFSETTO:-0500
TZNAME:CDT
DTSTART:20260308T080000
END:DAYLIGHT
BEGIN:STANDARD
TZOFFSETFROM:-0500
TZOFFSETTO:-0600
TZNAME:CST
DTSTART:20261101T070000
END:STANDARD
END:VTIMEZONE
BEGIN:VEVENT
DTSTART;TZID=America/Chicago:20250803T120000
DTEND;TZID=America/Chicago:20250803T150000
DTSTAMP:20260425T063936
CREATED:20250611T230006Z
LAST-MODIFIED:20250611T230006Z
UID:1270-1754222400-1754233200@gfrpets.org
SUMMARY:My Dog's Bakery Nail Drive
DESCRIPTION:Join us for a special fundraiser event where premium bourbon meets a powerful cause! We’re raffling off a highly sought-after bottle of George T. Stagg Bourbon — and tickets are… Continue reading Stagg and Wag: A Bourbon Benefit
URL:https://gfrpets.org/event/my-dogs-bakery-nail-drive/
LOCATION:My Dog’s Bakery\, 4100 W Willow Knolls Dr\, Peoria\, IL\, 61614\, United States
CATEGORIES:Fundraising Nights
END:VEVENT
END:VCALENDAR