BEGIN:VCALENDAR
VERSION:2.0
PRODID:-//Grafelman Farms Rescue - ECPv6.15.20//NONSGML v1.0//EN
CALSCALE:GREGORIAN
METHOD:PUBLISH
X-WR-CALNAME:Grafelman Farms Rescue
X-ORIGINAL-URL:https://gfrpets.org
X-WR-CALDESC:Events for Grafelman Farms Rescue
REFRESH-INTERVAL;VALUE=DURATION:PT1H
X-Robots-Tag:noindex
X-PUBLISHED-TTL:PT1H
BEGIN:VTIMEZONE
TZID:America/Chicago
BEGIN:DAYLIGHT
TZOFFSETFROM:-0600
TZOFFSETTO:-0500
TZNAME:CDT
DTSTART:20240310T080000
END:DAYLIGHT
BEGIN:STANDARD
TZOFFSETFROM:-0500
TZOFFSETTO:-0600
TZNAME:CST
DTSTART:20241103T070000
END:STANDARD
BEGIN:DAYLIGHT
TZOFFSETFROM:-0600
TZOFFSETTO:-0500
TZNAME:CDT
DTSTART:20250309T080000
END:DAYLIGHT
BEGIN:STANDARD
TZOFFSETFROM:-0500
TZOFFSETTO:-0600
TZNAME:CST
DTSTART:20251102T070000
END:STANDARD
BEGIN:DAYLIGHT
TZOFFSETFROM:-0600
TZOFFSETTO:-0500
TZNAME:CDT
DTSTART:20260308T080000
END:DAYLIGHT
BEGIN:STANDARD
TZOFFSETFROM:-0500
TZOFFSETTO:-0600
TZNAME:CST
DTSTART:20261101T070000
END:STANDARD
END:VTIMEZONE
BEGIN:VEVENT
DTSTART;TZID=America/Chicago:20250627T170000
DTEND;TZID=America/Chicago:20250627T200000
DTSTAMP:20260425T092654
CREATED:20250611T225116Z
LAST-MODIFIED:20250611T225116Z
UID:1263-1751043600-1751054400@gfrpets.org
SUMMARY:A Pint with your Pooch at Obed & Isaacs
DESCRIPTION:Join us for a special fundraiser event where premium bourbon meets a powerful cause! We’re raffling off a highly sought-after bottle of George T. Stagg Bourbon — and tickets are… Continue reading Stagg and Wag: A Bourbon Benefit
URL:https://gfrpets.org/event/a-pint-with-your-pooch-at-obed-isaacs-3/
LOCATION:Obed & Isaacs Microbrewery\, 321 NE Madison Ave\, Peoria\, IL\, 61603\, United States
CATEGORIES:Adoption Events,Fundraising Nights
END:VEVENT
END:VCALENDAR