BEGIN:VCALENDAR
VERSION:2.0
PRODID:-//Grafelman Farms Rescue - ECPv6.15.20//NONSGML v1.0//EN
CALSCALE:GREGORIAN
METHOD:PUBLISH
X-WR-CALNAME:Grafelman Farms Rescue
X-ORIGINAL-URL:https://gfrpets.org
X-WR-CALDESC:Events for Grafelman Farms Rescue
REFRESH-INTERVAL;VALUE=DURATION:PT1H
X-Robots-Tag:noindex
X-PUBLISHED-TTL:PT1H
BEGIN:VTIMEZONE
TZID:America/Chicago
BEGIN:DAYLIGHT
TZOFFSETFROM:-0600
TZOFFSETTO:-0500
TZNAME:CDT
DTSTART:20240310T080000
END:DAYLIGHT
BEGIN:STANDARD
TZOFFSETFROM:-0500
TZOFFSETTO:-0600
TZNAME:CST
DTSTART:20241103T070000
END:STANDARD
BEGIN:DAYLIGHT
TZOFFSETFROM:-0600
TZOFFSETTO:-0500
TZNAME:CDT
DTSTART:20250309T080000
END:DAYLIGHT
BEGIN:STANDARD
TZOFFSETFROM:-0500
TZOFFSETTO:-0600
TZNAME:CST
DTSTART:20251102T070000
END:STANDARD
BEGIN:DAYLIGHT
TZOFFSETFROM:-0600
TZOFFSETTO:-0500
TZNAME:CDT
DTSTART:20260308T080000
END:DAYLIGHT
BEGIN:STANDARD
TZOFFSETFROM:-0500
TZOFFSETTO:-0600
TZNAME:CST
DTSTART:20261101T070000
END:STANDARD
END:VTIMEZONE
BEGIN:VEVENT
DTSTART;TZID=America/Chicago:20250717T180000
DTEND;TZID=America/Chicago:20250717T210000
DTSTAMP:20260425T063259
CREATED:20250611T212636Z
LAST-MODIFIED:20250707T175535Z
UID:1212-1752775200-1752786000@gfrpets.org
SUMMARY:Paint Your Pet Night
DESCRIPTION:Join us for a special fundraiser event where premium bourbon meets a powerful cause! We’re raffling off a highly sought-after bottle of George T. Stagg Bourbon — and tickets are just $25 each for your chance to win this legendary pour. Even better\, this event supports an incredible mission. We’ll be accepting pet supply donations… Continue reading Stagg and Wag: A Bourbon Benefit
URL:https://gfrpets.org/event/paint-your-pet-night/
LOCATION:Hacienda El Mirador\, 5805 N Humboldt Ave ste 1\, Peoria\, IL\, 61614\, United States
CATEGORIES:Fundraising Nights
ATTACH;FMTTYPE=image/jpeg:https://gfrpets.org/wp-content/uploads/2025/06/17A292A4-F26F-4DDA-B77A-EF97A8AD30AB.jpeg
ORGANIZER;CN="Eden":MAILTO:eden@gfrpets.org
END:VEVENT
BEGIN:VEVENT
DTSTART;TZID=America/Chicago:20250725T170000
DTEND;TZID=America/Chicago:20250725T200000
DTSTAMP:20260425T063259
CREATED:20250611T223824Z
LAST-MODIFIED:20250611T225246Z
UID:1236-1753462800-1753473600@gfrpets.org
SUMMARY:A Pint with your Pooch at Obed & Isaacs
DESCRIPTION:Join us for a special fundraiser event where premium bourbon meets a powerful cause! We’re raffling off a highly sought-after bottle of George T. Stagg Bourbon — and tickets are just $25 each for your chance to win this legendary pour. Even better\, this event supports an incredible mission. We’ll be accepting pet supply donations… Continue reading Stagg and Wag: A Bourbon Benefit
URL:https://gfrpets.org/event/a-pint-with-your-pooch-at-obed-isaacs/
LOCATION:Obed & Isaacs Microbrewery\, 321 NE Madison Ave\, Peoria\, IL\, 61603\, United States
CATEGORIES:Adoption Events,Fundraising Nights
ORGANIZER;CN="Eden":MAILTO:eden@gfrpets.org
END:VEVENT
END:VCALENDAR