BEGIN:VCALENDAR
VERSION:2.0
PRODID:-//Grafelman Farms Rescue - ECPv6.15.20//NONSGML v1.0//EN
CALSCALE:GREGORIAN
METHOD:PUBLISH
X-WR-CALNAME:Grafelman Farms Rescue
X-ORIGINAL-URL:https://gfrpets.org
X-WR-CALDESC:Events for Grafelman Farms Rescue
REFRESH-INTERVAL;VALUE=DURATION:PT1H
X-Robots-Tag:noindex
X-PUBLISHED-TTL:PT1H
BEGIN:VTIMEZONE
TZID:America/Chicago
BEGIN:DAYLIGHT
TZOFFSETFROM:-0600
TZOFFSETTO:-0500
TZNAME:CDT
DTSTART:20240310T080000
END:DAYLIGHT
BEGIN:STANDARD
TZOFFSETFROM:-0500
TZOFFSETTO:-0600
TZNAME:CST
DTSTART:20241103T070000
END:STANDARD
BEGIN:DAYLIGHT
TZOFFSETFROM:-0600
TZOFFSETTO:-0500
TZNAME:CDT
DTSTART:20250309T080000
END:DAYLIGHT
BEGIN:STANDARD
TZOFFSETFROM:-0500
TZOFFSETTO:-0600
TZNAME:CST
DTSTART:20251102T070000
END:STANDARD
BEGIN:DAYLIGHT
TZOFFSETFROM:-0600
TZOFFSETTO:-0500
TZNAME:CDT
DTSTART:20260308T080000
END:DAYLIGHT
BEGIN:STANDARD
TZOFFSETFROM:-0500
TZOFFSETTO:-0600
TZNAME:CST
DTSTART:20261101T070000
END:STANDARD
END:VTIMEZONE
BEGIN:VEVENT
DTSTART;TZID=America/Chicago:20250712T110000
DTEND;TZID=America/Chicago:20250712T140000
DTSTAMP:20260425T073632
CREATED:20250611T222904Z
LAST-MODIFIED:20250611T223328Z
UID:1232-1752318000-1752328800@gfrpets.org
SUMMARY:Adoption Event at My Dog's Bakery
DESCRIPTION:We will have dogs and puppies available for adoption at the Putt Club. Grab some food\, pet some dogs\, play some games!Apply at gfrpets.org
URL:https://gfrpets.org/event/adoption-event-at-my-dogs-bakery/
LOCATION:My Dog’s Bakery\, 4100 W Willow Knolls Dr\, Peoria\, IL\, 61614\, United States
CATEGORIES:Adoption Events
END:VEVENT
END:VCALENDAR