BEGIN:VCALENDAR
VERSION:2.0
PRODID:-//Grafelman Farms Rescue - ECPv6.15.20//NONSGML v1.0//EN
CALSCALE:GREGORIAN
METHOD:PUBLISH
X-WR-CALNAME:Grafelman Farms Rescue
X-ORIGINAL-URL:https://gfrpets.org
X-WR-CALDESC:Events for Grafelman Farms Rescue
REFRESH-INTERVAL;VALUE=DURATION:PT1H
X-Robots-Tag:noindex
X-PUBLISHED-TTL:PT1H
BEGIN:VTIMEZONE
TZID:America/Chicago
BEGIN:DAYLIGHT
TZOFFSETFROM:-0600
TZOFFSETTO:-0500
TZNAME:CDT
DTSTART:20250309T080000
END:DAYLIGHT
BEGIN:STANDARD
TZOFFSETFROM:-0500
TZOFFSETTO:-0600
TZNAME:CST
DTSTART:20251102T070000
END:STANDARD
BEGIN:DAYLIGHT
TZOFFSETFROM:-0600
TZOFFSETTO:-0500
TZNAME:CDT
DTSTART:20260308T080000
END:DAYLIGHT
BEGIN:STANDARD
TZOFFSETFROM:-0500
TZOFFSETTO:-0600
TZNAME:CST
DTSTART:20261101T070000
END:STANDARD
BEGIN:DAYLIGHT
TZOFFSETFROM:-0600
TZOFFSETTO:-0500
TZNAME:CDT
DTSTART:20270314T080000
END:DAYLIGHT
BEGIN:STANDARD
TZOFFSETFROM:-0500
TZOFFSETTO:-0600
TZNAME:CST
DTSTART:20271107T070000
END:STANDARD
END:VTIMEZONE
BEGIN:VEVENT
DTSTART;TZID=America/Chicago:20260502T110000
DTEND;TZID=America/Chicago:20260502T140000
DTSTAMP:20260424T120625
CREATED:20260414T180306Z
LAST-MODIFIED:20260414T180515Z
UID:27272-1777719600-1777730400@gfrpets.org
SUMMARY:GFR's Ten Year Anniversary Celebration!
DESCRIPTION:Come out to see some of our available dogs (and possibly cats) at Pekin Petco! A list of animals that will be at the event will be listed on our Facebook page by the day prior. Available animals are subject to foster availability. You can apply for our available animals at apply to adopt a… Continue reading Adoption Event at Pekin Petco
URL:https://gfrpets.org/event/gfrs-ten-year-anniversary-celebration/
LOCATION:Pekin Petco\, 3434 Court S\, Pekin\, IL\, 61554\, United States
CATEGORIES:Adoption Events
ATTACH;FMTTYPE=image/jpeg:https://gfrpets.org/wp-content/uploads/2026/04/663217427_1256725146596909_5127049725389495975_n.jpg
END:VEVENT
BEGIN:VEVENT
DTSTART;TZID=America/Chicago:20260509T110000
DTEND;TZID=America/Chicago:20260509T140000
DTSTAMP:20260424T120625
CREATED:20260414T184949Z
LAST-MODIFIED:20260414T185829Z
UID:27313-1778324400-1778335200@gfrpets.org
SUMMARY:Adoption event @ My Dog's Bakery
DESCRIPTION:Come out to see some of our available dogs (and possibly cats) at Pekin Petco! A list of animals that will be at the event will be listed on our Facebook page by the day prior. Available animals are subject to foster availability. You can apply for our available animals at apply to adopt a… Continue reading Adoption Event at Pekin Petco
URL:https://gfrpets.org/event/adoption-event-my-dogs-bakery/
LOCATION:My Dog’s Bakery\, 4100 W Willow Knolls Dr\, Peoria\, IL\, 61614\, United States
ATTACH;FMTTYPE=image/png:https://gfrpets.org/wp-content/uploads/2026/04/IMG_0642-scaled.png
END:VEVENT
BEGIN:VEVENT
DTSTART;TZID=America/Chicago:20260516T110000
DTEND;TZID=America/Chicago:20260516T140000
DTSTAMP:20260424T120625
CREATED:20260414T185622Z
LAST-MODIFIED:20260414T185706Z
UID:27318-1778929200-1778940000@gfrpets.org
SUMMARY:Adoption Event at the Putt Club
DESCRIPTION:Come out to see some of our available dogs (and possibly cats) at Pekin Petco! A list of animals that will be at the event will be listed on our Facebook page by the day prior. Available animals are subject to foster availability. You can apply for our available animals at apply to adopt a… Continue reading Adoption Event at Pekin Petco
URL:https://gfrpets.org/event/adoption-event-at-the-putt-club/
LOCATION:The Putt Club\, 1001 Bass Pro Dr\, East Peoria\, IL\, United States
CATEGORIES:Adoption Events
ATTACH;FMTTYPE=image/jpeg:https://gfrpets.org/wp-content/uploads/2026/04/666211102_1258555066413917_1071550784076561720_n.jpg
END:VEVENT
BEGIN:VEVENT
DTSTART;TZID=America/Chicago:20260523T110000
DTEND;TZID=America/Chicago:20260523T140000
DTSTAMP:20260424T120625
CREATED:20260414T185954Z
LAST-MODIFIED:20260414T190115Z
UID:27326-1779534000-1779544800@gfrpets.org
SUMMARY:Adoption Event @ East Peoria Petsmart
DESCRIPTION:Come out to see some of our available dogs (and possibly cats) at Pekin Petco! A list of animals that will be at the event will be listed on our Facebook page by the day prior. Available animals are subject to foster availability. You can apply for our available animals at apply to adopt a… Continue reading Adoption Event at Pekin Petco
URL:https://gfrpets.org/event/adoption-event-east-peoria-petsmart-2/
LOCATION:East Peoria Petsmart\, 208 River Road\, East Peoria\, 61611\, United States
END:VEVENT
BEGIN:VEVENT
DTSTART;TZID=America/Chicago:20260606T110000
DTEND;TZID=America/Chicago:20260606T140000
DTSTAMP:20260424T120625
CREATED:20260414T191019Z
LAST-MODIFIED:20260414T191732Z
UID:27336-1780743600-1780754400@gfrpets.org
SUMMARY:Adoption Event at Pekin Petco
DESCRIPTION:Come out to see some of our available dogs (and possibly cats) at Pekin Petco! A list of animals that will be at the event will be listed on our Facebook page by the day prior. Available animals are subject to foster availability. You can apply for our available animals at apply to adopt a… Continue reading Adoption Event at Pekin Petco
URL:https://gfrpets.org/event/adoption-event-at-pekin-petco-6/
LOCATION:Pekin Petco\, 3434 Court S\, Pekin\, IL\, 61554\, United States
ATTACH;FMTTYPE=image/png:https://gfrpets.org/wp-content/uploads/2026/04/IMG_1070-scaled.png
END:VEVENT
BEGIN:VEVENT
DTSTART;TZID=America/Chicago:20260620T110000
DTEND;TZID=America/Chicago:20260620T140000
DTSTAMP:20260424T120625
CREATED:20260414T190404Z
LAST-MODIFIED:20260414T190651Z
UID:27329-1781953200-1781964000@gfrpets.org
SUMMARY:Stagg and Wag: A Bourbon Benefit
DESCRIPTION:Come out to see some of our available dogs (and possibly cats) at Pekin Petco! A list of animals that will be at the event will be listed on our Facebook page by the day prior. Available animals are subject to foster availability. You can apply for our available animals at apply to adopt a… Continue reading Adoption Event at Pekin Petco
URL:https://gfrpets.org/event/stagg-and-wag-a-bourbon-benefit/
LOCATION:ValuCheck Liquor\, 2111 Court St.\, Pekin\, IL\, 61554\, United States
CATEGORIES:Fundraising Nights
ATTACH;FMTTYPE=image/jpeg:https://gfrpets.org/wp-content/uploads/2026/04/657222583_881857024886593_8692011009454766316_n-1.jpg
END:VEVENT
END:VCALENDAR