BEGIN:VCALENDAR
VERSION:2.0
PRODID:-//Grafelman Farms Rescue - ECPv6.15.20//NONSGML v1.0//EN
CALSCALE:GREGORIAN
METHOD:PUBLISH
X-ORIGINAL-URL:https://gfrpets.org
X-WR-CALDESC:Events for Grafelman Farms Rescue
REFRESH-INTERVAL;VALUE=DURATION:PT1H
X-Robots-Tag:noindex
X-PUBLISHED-TTL:PT1H
BEGIN:VTIMEZONE
TZID:America/Chicago
BEGIN:DAYLIGHT
TZOFFSETFROM:-0600
TZOFFSETTO:-0500
TZNAME:CDT
DTSTART:20250309T080000
END:DAYLIGHT
BEGIN:STANDARD
TZOFFSETFROM:-0500
TZOFFSETTO:-0600
TZNAME:CST
DTSTART:20251102T070000
END:STANDARD
BEGIN:DAYLIGHT
TZOFFSETFROM:-0600
TZOFFSETTO:-0500
TZNAME:CDT
DTSTART:20260308T080000
END:DAYLIGHT
BEGIN:STANDARD
TZOFFSETFROM:-0500
TZOFFSETTO:-0600
TZNAME:CST
DTSTART:20261101T070000
END:STANDARD
BEGIN:DAYLIGHT
TZOFFSETFROM:-0600
TZOFFSETTO:-0500
TZNAME:CDT
DTSTART:20270314T080000
END:DAYLIGHT
BEGIN:STANDARD
TZOFFSETFROM:-0500
TZOFFSETTO:-0600
TZNAME:CST
DTSTART:20271107T070000
END:STANDARD
END:VTIMEZONE
BEGIN:VEVENT
DTSTART;TZID=America/Chicago:20260221T110000
DTEND;TZID=America/Chicago:20260221T140000
DTSTAMP:20260424T174627
CREATED:20251011T142300Z
LAST-MODIFIED:20260212T154226Z
UID:3469-1771671600-1771682400@gfrpets.org
SUMMARY:Adoption Event at East Peoria Petsmart
DESCRIPTION:Come out to see some of our available dogs (and possibly cats) at Pekin Petco! A list of animals that will be at the event will be listed on our… Continue reading Adoption Event at Pekin Petco
URL:https://gfrpets.org/event/adoption-event-at-east-peoria-petsmart-3/
LOCATION:East Peoria Petsmart\, 208 River Road\, East Peoria\, 61611\, United States
END:VEVENT
END:VCALENDAR