BEGIN:VCALENDAR
VERSION:2.0
PRODID:-//Grafelman Farms Rescue - ECPv6.15.20//NONSGML v1.0//EN
CALSCALE:GREGORIAN
METHOD:PUBLISH
X-ORIGINAL-URL:https://gfrpets.org
X-WR-CALDESC:Events for Grafelman Farms Rescue
REFRESH-INTERVAL;VALUE=DURATION:PT1H
X-Robots-Tag:noindex
X-PUBLISHED-TTL:PT1H
BEGIN:VTIMEZONE
TZID:America/Chicago
BEGIN:DAYLIGHT
TZOFFSETFROM:-0600
TZOFFSETTO:-0500
TZNAME:CDT
DTSTART:20240310T080000
END:DAYLIGHT
BEGIN:STANDARD
TZOFFSETFROM:-0500
TZOFFSETTO:-0600
TZNAME:CST
DTSTART:20241103T070000
END:STANDARD
BEGIN:DAYLIGHT
TZOFFSETFROM:-0600
TZOFFSETTO:-0500
TZNAME:CDT
DTSTART:20250309T080000
END:DAYLIGHT
BEGIN:STANDARD
TZOFFSETFROM:-0500
TZOFFSETTO:-0600
TZNAME:CST
DTSTART:20251102T070000
END:STANDARD
BEGIN:DAYLIGHT
TZOFFSETFROM:-0600
TZOFFSETTO:-0500
TZNAME:CDT
DTSTART:20260308T080000
END:DAYLIGHT
BEGIN:STANDARD
TZOFFSETFROM:-0500
TZOFFSETTO:-0600
TZNAME:CST
DTSTART:20261101T070000
END:STANDARD
END:VTIMEZONE
BEGIN:VEVENT
DTSTART;TZID=America/Chicago:20250622T110000
DTEND;TZID=America/Chicago:20250622T140000
DTSTAMP:20260425T060429
CREATED:20250611T222228Z
LAST-MODIFIED:20250611T223011Z
UID:1233-1750590000-1750600800@gfrpets.org
SUMMARY:Adoption Event at East Peoria Petsmart
DESCRIPTION:Come out to see some of our available dogs (and possibly cats) at Pekin Petco! A list of animals that will be at the event will be listed on our… Continue reading Adoption Event at Pekin Petco
URL:https://gfrpets.org/event/adoption-event-at-ep-petsmart/
LOCATION:East Peoria Petsmart\, 208 River Road\, East Peoria\, 61611\, United States
ORGANIZER;CN="Eden":MAILTO:eden@gfrpets.org
END:VEVENT
END:VCALENDAR